BEGIN:VCALENDAR
VERSION:2.0
PRODID:-//wolfmueller.co  - ECPv6.15.20//NONSGML v1.0//EN
CALSCALE:GREGORIAN
METHOD:PUBLISH
X-WR-CALNAME:wolfmueller.co 
X-ORIGINAL-URL:https://wolfmueller.co
X-WR-CALDESC:Events for wolfmueller.co 
REFRESH-INTERVAL;VALUE=DURATION:PT1H
X-Robots-Tag:noindex
X-PUBLISHED-TTL:PT1H
BEGIN:VTIMEZONE
TZID:America/Chicago
BEGIN:DAYLIGHT
TZOFFSETFROM:-0600
TZOFFSETTO:-0500
TZNAME:CDT
DTSTART:20250309T080000
END:DAYLIGHT
BEGIN:STANDARD
TZOFFSETFROM:-0500
TZOFFSETTO:-0600
TZNAME:CST
DTSTART:20251102T070000
END:STANDARD
BEGIN:DAYLIGHT
TZOFFSETFROM:-0600
TZOFFSETTO:-0500
TZNAME:CDT
DTSTART:20260308T080000
END:DAYLIGHT
BEGIN:STANDARD
TZOFFSETFROM:-0500
TZOFFSETTO:-0600
TZNAME:CST
DTSTART:20261101T070000
END:STANDARD
BEGIN:DAYLIGHT
TZOFFSETFROM:-0600
TZOFFSETTO:-0500
TZNAME:CDT
DTSTART:20270314T080000
END:DAYLIGHT
BEGIN:STANDARD
TZOFFSETFROM:-0500
TZOFFSETTO:-0600
TZNAME:CST
DTSTART:20271107T070000
END:STANDARD
END:VTIMEZONE
BEGIN:VEVENT
DTSTART;VALUE=DATE:20260612
DTEND;VALUE=DATE:20260614
DTSTAMP:20260422T233510
CREATED:20260311T131050Z
LAST-MODIFIED:20260311T131050Z
UID:30267-1781222400-1781395199@wolfmueller.co
SUMMARY:Issues\, Etc. Making the Case Conference
DESCRIPTION:The Issues\, Etc. Making the Case Conference is the premier theological conference for the Lutheran lay theologian\, held at Concordia University in Chicago. The speakers are always fantastic. The conversation\, encouraging the accommodations\, is wonderful. If there’s one conference to put on your calendar every year\, this is the one. \nI’ll be presenting on Christian Courage. I hope to see you there. \n 
URL:https://wolfmueller.co/event/issues-etc-making-the-case-conference-2/
LOCATION:Concordia University-Chicago\, 7400 Augusta St.\, River Forest\, United States
ATTACH;FMTTYPE=image/jpeg:https://wolfmueller.co/wp-content/uploads/2026/03/ie-logo.jpg
END:VEVENT
END:VCALENDAR