BEGIN:VCALENDAR
VERSION:2.0
PRODID:-//wolfmueller.co  - ECPv6.15.20//NONSGML v1.0//EN
CALSCALE:GREGORIAN
METHOD:PUBLISH
X-WR-CALNAME:wolfmueller.co 
X-ORIGINAL-URL:https://wolfmueller.co
X-WR-CALDESC:Events for wolfmueller.co 
REFRESH-INTERVAL;VALUE=DURATION:PT1H
X-Robots-Tag:noindex
X-PUBLISHED-TTL:PT1H
BEGIN:VTIMEZONE
TZID:America/Denver
BEGIN:DAYLIGHT
TZOFFSETFROM:-0700
TZOFFSETTO:-0600
TZNAME:MDT
DTSTART:20170312T090000
END:DAYLIGHT
BEGIN:STANDARD
TZOFFSETFROM:-0600
TZOFFSETTO:-0700
TZNAME:MST
DTSTART:20171105T080000
END:STANDARD
BEGIN:DAYLIGHT
TZOFFSETFROM:-0700
TZOFFSETTO:-0600
TZNAME:MDT
DTSTART:20180311T090000
END:DAYLIGHT
BEGIN:STANDARD
TZOFFSETFROM:-0600
TZOFFSETTO:-0700
TZNAME:MST
DTSTART:20181104T080000
END:STANDARD
BEGIN:DAYLIGHT
TZOFFSETFROM:-0700
TZOFFSETTO:-0600
TZNAME:MDT
DTSTART:20190310T090000
END:DAYLIGHT
BEGIN:STANDARD
TZOFFSETFROM:-0600
TZOFFSETTO:-0700
TZNAME:MST
DTSTART:20191103T080000
END:STANDARD
END:VTIMEZONE
BEGIN:VEVENT
DTSTART;TZID=America/Denver:20180812T180000
DTEND;TZID=America/Denver:20180812T200000
DTSTAMP:20260425T103838
CREATED:20180712T171105Z
LAST-MODIFIED:20180808T202057Z
UID:4951-1534096800-1534104000@wolfmueller.co
SUMMARY:Installation of Pastor Jonathan Fisk
DESCRIPTION:I have the privilege of preaching for the installation of Pr. Jonathan Fisk as the senior pastor of St. Paul Lutheran Church in Rockford\, IL. Join us for the service and the reception as we rejoice that the Lord continues to save the world through the foolishness of the word preached. \n  \n6:00 pm on August 12\, 2018 \n  \nAppetizers and Reception to follow Appetizers and Reception to follow in the Peacock Room at In the Peacock Room at Prairie Street Brewhouse\, Prairie Street Brewhouse. \n  \nPlease RSVP to Church office: Please RSVP to Church office:\n815.963.5435 815.963.5435\nor\nchurch.office@stpaulrockford.org
URL:https://wolfmueller.co/event/installation-pastor-jonathan-fisk/
LOCATION:St. Paul Rockford\, 600 N. Horsman St.\, Rockford\, IL\, 61101\, United States
ATTACH;FMTTYPE=image/jpeg:https://wolfmueller.co/wp-content/uploads/2018/07/wwsd329ahq.jpg
END:VEVENT
BEGIN:VEVENT
DTSTART;VALUE=DATE:20180803
DTEND;VALUE=DATE:20180806
DTSTAMP:20260425T103838
CREATED:20180711T190525Z
LAST-MODIFIED:20180711T190525Z
UID:4932-1533254400-1533513599@wolfmueller.co
SUMMARY:Doxology Grand Reunion
DESCRIPTION:All Doxology Grads and their wives are invited to this year’s Grand Reunion in Wichita\, KS. I’ll be giving a presentation on “St. Paul and the Pastor’s Work of Prayer.”
URL:https://wolfmueller.co/event/doxology-grand-reunion/
LOCATION:Spiritual Life Center\, Wichita\, KS\, United States
ATTACH;FMTTYPE=image/jpeg:https://wolfmueller.co/wp-content/uploads/2018/07/FOV-DOX-banner.jpg
END:VEVENT
BEGIN:VEVENT
DTSTART;VALUE=DATE:20180724
DTEND;VALUE=DATE:20180728
DTSTAMP:20260425T103838
CREATED:20180711T185738Z
LAST-MODIFIED:20180711T191840Z
UID:4926-1532390400-1532735999@wolfmueller.co
SUMMARY:Higher Things Youth Conference
DESCRIPTION:I’ll have the opportunity to teach on the topics of Sanctification and the Christian Life\, Homosexuality\, and Suicide.
URL:https://wolfmueller.co/event/higher-things-youth-conference/
LOCATION:The University of Kansas\, Lawrence\, KS\, United States
ATTACH;FMTTYPE=image/png:https://wolfmueller.co/wp-content/uploads/2018/07/2018_sanctified_color_wide.png
END:VEVENT
END:VCALENDAR