BEGIN:VCALENDAR
VERSION:2.0
PRODID:-//wolfmueller.co  - ECPv6.15.20//NONSGML v1.0//EN
CALSCALE:GREGORIAN
METHOD:PUBLISH
X-WR-CALNAME:wolfmueller.co 
X-ORIGINAL-URL:https://wolfmueller.co
X-WR-CALDESC:Events for wolfmueller.co 
REFRESH-INTERVAL;VALUE=DURATION:PT1H
X-Robots-Tag:noindex
X-PUBLISHED-TTL:PT1H
BEGIN:VTIMEZONE
TZID:America/Chicago
BEGIN:DAYLIGHT
TZOFFSETFROM:-0600
TZOFFSETTO:-0500
TZNAME:CDT
DTSTART:20250309T080000
END:DAYLIGHT
BEGIN:STANDARD
TZOFFSETFROM:-0500
TZOFFSETTO:-0600
TZNAME:CST
DTSTART:20251102T070000
END:STANDARD
BEGIN:DAYLIGHT
TZOFFSETFROM:-0600
TZOFFSETTO:-0500
TZNAME:CDT
DTSTART:20260308T080000
END:DAYLIGHT
BEGIN:STANDARD
TZOFFSETFROM:-0500
TZOFFSETTO:-0600
TZNAME:CST
DTSTART:20261101T070000
END:STANDARD
BEGIN:DAYLIGHT
TZOFFSETFROM:-0600
TZOFFSETTO:-0500
TZNAME:CDT
DTSTART:20270314T080000
END:DAYLIGHT
BEGIN:STANDARD
TZOFFSETFROM:-0500
TZOFFSETTO:-0600
TZNAME:CST
DTSTART:20271107T070000
END:STANDARD
END:VTIMEZONE
BEGIN:VEVENT
DTSTART;VALUE=DATE:20260424
DTEND;VALUE=DATE:20260426
DTSTAMP:20260422T221301
CREATED:20260225T162518Z
LAST-MODIFIED:20260225T162518Z
UID:30221-1776988800-1777161599@wolfmueller.co
SUMMARY:Caring for Those who have Left the Faith
DESCRIPTION:Each of us has a family member or friend who has walked away from the faith. They’ve been offended by what they’ve heard or life has distracted them and pulled their attention elsewhere. How can we respond and lovingly call them home to Christ and His Church? \n  \nBeginning Friday at 7pm-8:30. Saturday beginning at 9:30 am-11:30 and 12:30-2:30. (lunch on Saturday\, and coffee breaks throughout the sessions).
URL:https://wolfmueller.co/event/caring-for-those-who-have-left-the-faith/
LOCATION:Mount Calvary Lutheran Church 18 Selkirk Boulevard Red Deer\, AB T4N 0G2\, 18 Selkirk Boulevard\, Red Deer\, Alberta\, T4N 0G2\, Canada
ATTACH;FMTTYPE=image/jpeg:https://wolfmueller.co/wp-content/uploads/2026/02/82970e6319c90332f1572fba8ad24d6a-scaled.jpeg
END:VEVENT
END:VCALENDAR